BEGIN:VCALENDAR
VERSION:2.0
PRODID:-//Yummies Christian Nursery School - ECPv6.15.20//NONSGML v1.0//EN
CALSCALE:GREGORIAN
METHOD:PUBLISH
X-WR-CALNAME:Yummies Christian Nursery School
X-ORIGINAL-URL:https://www.yummies.co.za
X-WR-CALDESC:Events for Yummies Christian Nursery School
REFRESH-INTERVAL;VALUE=DURATION:PT1H
X-Robots-Tag:noindex
X-PUBLISHED-TTL:PT1H
BEGIN:VTIMEZONE
TZID:Africa/Johannesburg
BEGIN:STANDARD
TZOFFSETFROM:+0200
TZOFFSETTO:+0200
TZNAME:SAST
DTSTART:20240101T000000
END:STANDARD
END:VTIMEZONE
BEGIN:VEVENT
DTSTART;VALUE=DATE:20251005
DTEND;VALUE=DATE:20251006
DTSTAMP:20260426T063645
CREATED:20250922T073802Z
LAST-MODIFIED:20250922T073824Z
UID:5755-1759622400-1759708799@www.yummies.co.za
SUMMARY:World Teachers Day
DESCRIPTION:🍎✏️ Happy World Teachers’ Day! ✏️🍎 \nToday we celebrate our amazing teachers who fill each day with patience\, kindness\, and a whole lot of love 💕 Their dedication helps our little ones grow\, learn\, and shine brighter every day! 🌟 \nThank you for all you do; you truly make a world of difference! 🙌💐
URL:https://www.yummies.co.za/event/world-teachers-day/
CATEGORIES:Important Days & Holidays
ATTACH;FMTTYPE=image/jpeg:https://www.yummies.co.za/wp-content/uploads/2025/09/yummies_fb.jpg
END:VEVENT
END:VCALENDAR