BEGIN:VCALENDAR
VERSION:2.0
PRODID:-//Yummies Christian Nursery School - ECPv6.15.20//NONSGML v1.0//EN
CALSCALE:GREGORIAN
METHOD:PUBLISH
X-ORIGINAL-URL:https://www.yummies.co.za
X-WR-CALDESC:Events for Yummies Christian Nursery School
REFRESH-INTERVAL;VALUE=DURATION:PT1H
X-Robots-Tag:noindex
X-PUBLISHED-TTL:PT1H
BEGIN:VTIMEZONE
TZID:Africa/Johannesburg
BEGIN:STANDARD
TZOFFSETFROM:+0200
TZOFFSETTO:+0200
TZNAME:SAST
DTSTART:20250101T000000
END:STANDARD
END:VTIMEZONE
BEGIN:VEVENT
DTSTART;VALUE=DATE:20260504
DTEND;VALUE=DATE:20260509
DTSTAMP:20260425T191914
CREATED:20260424T123147Z
LAST-MODIFIED:20260424T124010Z
UID:5905-1777852800-1778284799@www.yummies.co.za
SUMMARY:This Week's Theme
DESCRIPTION:🌸 Theme of the Week: Mother’s Day 🌸🌦 Grade R Theme: Weather 🌦 \nThis week at Yummies Nursery School\, we are celebrating the special role that moms and mother figures play in our lives 💛 \nOur little ones will be exploring love\, appreciation\, and kindness through fun Mother’s Day activities\, crafts\, and stories… all while learning how to express gratitude in their own unique ways. \nOur Grade R class will also be diving into the wonderful world of weather\, discovering sunshine\, rain\, wind\, and everything in between ☀️🌧️ \nWe’re looking forward to a week full of creativity\, learning\, and lots of smiles!
URL:https://www.yummies.co.za/event/this-weeks-theme-13/
LOCATION:Yummies\, 34 Penchartz Rd\, Harveston\, Gauteng\, 2040\, South Africa
CATEGORIES:Themes
ATTACH;FMTTYPE=image/jpeg:https://www.yummies.co.za/wp-content/uploads/2026/01/yummies_fb.jpg
ORGANIZER;CN="Yummies":MAILTO:info@yummies.co.za
END:VEVENT
END:VCALENDAR