BEGIN:VCALENDAR
VERSION:2.0
PRODID:-//Yummies Christian Nursery School - ECPv6.15.20//NONSGML v1.0//EN
CALSCALE:GREGORIAN
METHOD:PUBLISH
X-WR-CALNAME:Yummies Christian Nursery School
X-ORIGINAL-URL:https://www.yummies.co.za
X-WR-CALDESC:Events for Yummies Christian Nursery School
REFRESH-INTERVAL;VALUE=DURATION:PT1H
X-Robots-Tag:noindex
X-PUBLISHED-TTL:PT1H
BEGIN:VTIMEZONE
TZID:Africa/Johannesburg
BEGIN:STANDARD
TZOFFSETFROM:+0200
TZOFFSETTO:+0200
TZNAME:SAST
DTSTART:20250101T000000
END:STANDARD
END:VTIMEZONE
BEGIN:VEVENT
DTSTART;VALUE=DATE:20260316
DTEND;VALUE=DATE:20260321
DTSTAMP:20260425T193532
CREATED:20260222T072332Z
LAST-MODIFIED:20260222T072332Z
UID:5860-1773619200-1774051199@www.yummies.co.za
SUMMARY:This Week's Theme
DESCRIPTION:🎨🔺 Grade R Theme of the Week: Shapes & Colours 🔵🟨 \nThis week our Grade R learners are exploring the bright and beautiful world of Shapes & Colours! From circles and squares to rainbows of colour\, we’re discovering how shapes and colours are all around us. \nThrough art\, games\, sorting activities and creative play\, we’re building early maths skills while having lots of colourful fun. 🌈✨
URL:https://www.yummies.co.za/event/this-weeks-theme-9/
LOCATION:Yummies\, 34 Penchartz Rd\, Harveston\, Gauteng\, 2040\, South Africa
CATEGORIES:Themes
ATTACH;FMTTYPE=image/jpeg:https://www.yummies.co.za/wp-content/uploads/2026/02/yummies_fb_themes2026_grader-1.jpg
ORGANIZER;CN="Yummies":MAILTO:info@yummies.co.za
END:VEVENT
END:VCALENDAR