BEGIN:VCALENDAR
VERSION:2.0
PRODID:-//Yummies Christian Nursery School - ECPv6.15.20//NONSGML v1.0//EN
CALSCALE:GREGORIAN
METHOD:PUBLISH
X-WR-CALNAME:Yummies Christian Nursery School
X-ORIGINAL-URL:https://www.yummies.co.za
X-WR-CALDESC:Events for Yummies Christian Nursery School
REFRESH-INTERVAL;VALUE=DURATION:PT1H
X-Robots-Tag:noindex
X-PUBLISHED-TTL:PT1H
BEGIN:VTIMEZONE
TZID:Africa/Johannesburg
BEGIN:STANDARD
TZOFFSETFROM:+0200
TZOFFSETTO:+0200
TZNAME:SAST
DTSTART:20250101T000000
END:STANDARD
END:VTIMEZONE
BEGIN:VEVENT
DTSTART;VALUE=DATE:20260309
DTEND;VALUE=DATE:20260314
DTSTAMP:20260425T193618
CREATED:20260222T071645Z
LAST-MODIFIED:20260222T071645Z
UID:5853-1773014400-1773446399@www.yummies.co.za
SUMMARY:This Week's Theme
DESCRIPTION:☀️ Theme of the Week: Summer ☀️ \nIt’s all about Summer at Yummies Nursery School! 🌴🌈 \nThis week\, all our classes including Grade R are exploring sunny days\, beach fun\, summer clothing\, refreshing treats and the sights and sounds of the season. Through stories\, art\, music and play\, we’re celebrating everything that makes summer bright and exciting. \nLet the sunshine learning begin! 🌞🍉
URL:https://www.yummies.co.za/event/this-weeks-theme-8/
LOCATION:Yummies\, 34 Penchartz Rd\, Harveston\, Gauteng\, 2040\, South Africa
CATEGORIES:Themes
ATTACH;FMTTYPE=image/jpeg:https://www.yummies.co.za/wp-content/uploads/2026/02/yummies_fb_themes2026-1.jpg
ORGANIZER;CN="Yummies":MAILTO:info@yummies.co.za
END:VEVENT
END:VCALENDAR