BEGIN:VCALENDAR
VERSION:2.0
PRODID:-//Yummies Christian Nursery School - ECPv6.15.20//NONSGML v1.0//EN
CALSCALE:GREGORIAN
METHOD:PUBLISH
X-ORIGINAL-URL:https://www.yummies.co.za
X-WR-CALDESC:Events for Yummies Christian Nursery School
REFRESH-INTERVAL;VALUE=DURATION:PT1H
X-Robots-Tag:noindex
X-PUBLISHED-TTL:PT1H
BEGIN:VTIMEZONE
TZID:Africa/Johannesburg
BEGIN:STANDARD
TZOFFSETFROM:+0200
TZOFFSETTO:+0200
TZNAME:SAST
DTSTART:20250101T000000
END:STANDARD
END:VTIMEZONE
BEGIN:VEVENT
DTSTART;VALUE=DATE:20260302
DTEND;VALUE=DATE:20260307
DTSTAMP:20260425T193824
CREATED:20260222T070613Z
LAST-MODIFIED:20260222T070613Z
UID:5849-1772409600-1772841599@www.yummies.co.za
SUMMARY:This Week's Theme
DESCRIPTION:🌈 Theme of the Week 🌈 \nThis week at Yummies Nursery School\, our little learners are diving into the wonderful world of Shapes & Colours! From bright reds and sunny yellows to circles\, squares and triangles\, we’re exploring how colour and shape fill our world with fun and creativity. 🎨🔺🟡 \nOur Grade R class is focusing on Healthy Living\, learning about good habits\, nutritious food\, exercise and taking care of our bodies. Strong bodies\, healthy choices and happy hearts in the making! 💚🍎 \nEvery week is a new adventure in learning and growing.
URL:https://www.yummies.co.za/event/this-weeks-theme-7/
LOCATION:Yummies\, 34 Penchartz Rd\, Harveston\, Gauteng\, 2040\, South Africa
CATEGORIES:Themes
ATTACH;FMTTYPE=image/jpeg:https://www.yummies.co.za/wp-content/uploads/2026/01/yummies_fb.jpg
ORGANIZER;CN="Yummies":MAILTO:info@yummies.co.za
END:VEVENT
END:VCALENDAR