BEGIN:VCALENDAR
VERSION:2.0
PRODID:-//Yummies Christian Nursery School - ECPv6.15.20//NONSGML v1.0//EN
CALSCALE:GREGORIAN
METHOD:PUBLISH
X-WR-CALNAME:Yummies Christian Nursery School
X-ORIGINAL-URL:https://www.yummies.co.za
X-WR-CALDESC:Events for Yummies Christian Nursery School
REFRESH-INTERVAL;VALUE=DURATION:PT1H
X-Robots-Tag:noindex
X-PUBLISHED-TTL:PT1H
BEGIN:VTIMEZONE
TZID:Africa/Johannesburg
BEGIN:STANDARD
TZOFFSETFROM:+0200
TZOFFSETTO:+0200
TZNAME:SAST
DTSTART:20250101T000000
END:STANDARD
END:VTIMEZONE
BEGIN:VEVENT
DTSTART;VALUE=DATE:20260126
DTEND;VALUE=DATE:20260131
DTSTAMP:20260425T204255
CREATED:20260120T125337Z
LAST-MODIFIED:20260120T125337Z
UID:5802-1769385600-1769817599@www.yummies.co.za
SUMMARY:This Week's Theme
DESCRIPTION:Theme of the Week 🌈\nThis week at Yummies Nursery School\, our learning is all about discovery and growing independence: \n🧍‍♀️ Theme of the Week: My BodyOur children will learn about their bodies\, how they move\, and the importance of looking after themselves through fun\, age-appropriate activities. \n🏫 Grade R Theme: At SchoolOur Grade R learners will focus on school routines\, responsibility\, and working confidently within the classroom environment. \nA week filled with movement\, learning\, and confidence-building awaits our Yummies stars 💛✨
URL:https://www.yummies.co.za/event/this-weeks-theme-2/
LOCATION:Yummies\, 34 Penchartz Rd\, Harveston\, Gauteng\, 2040\, South Africa
CATEGORIES:Themes
ATTACH;FMTTYPE=image/jpeg:https://www.yummies.co.za/wp-content/uploads/2026/01/yummies_fb.jpg
ORGANIZER;CN="Yummies":MAILTO:info@yummies.co.za
END:VEVENT
END:VCALENDAR