BEGIN:VCALENDAR
VERSION:2.0
PRODID:-//Yummies Christian Nursery School - ECPv6.15.20//NONSGML v1.0//EN
CALSCALE:GREGORIAN
METHOD:PUBLISH
X-ORIGINAL-URL:https://www.yummies.co.za
X-WR-CALDESC:Events for Yummies Christian Nursery School
REFRESH-INTERVAL;VALUE=DURATION:PT1H
X-Robots-Tag:noindex
X-PUBLISHED-TTL:PT1H
BEGIN:VTIMEZONE
TZID:Africa/Johannesburg
BEGIN:STANDARD
TZOFFSETFROM:+0200
TZOFFSETTO:+0200
TZNAME:SAST
DTSTART:20250101T000000
END:STANDARD
END:VTIMEZONE
BEGIN:VEVENT
DTSTART;VALUE=DATE:20260119
DTEND;VALUE=DATE:20260124
DTSTAMP:20260425T215323
CREATED:20260120T124104Z
LAST-MODIFIED:20260120T124104Z
UID:5797-1768780800-1769212799@www.yummies.co.za
SUMMARY:This Week's Theme
DESCRIPTION:Theme of the Week 🌈 \nThis week at Yummies Nursery School\, our little learners are settling into school life with two special themes designed just for them: \n🏫 Theme of the Week: My SchoolOur children will explore their classroom\, routines\, teachers\, and friends\, helping them feel confident\, safe\, and excited in their learning space. \n🌟 Grade R Theme: Me!Our Grade R stars will be focusing on self-awareness\, emotions\, and individuality\, celebrating what makes each child unique and special. \nA lovely week of discovery\, belonging\, and growing confidence lies ahead 💛
URL:https://www.yummies.co.za/event/this-weeks-theme/
LOCATION:Yummies\, 34 Penchartz Rd\, Harveston\, Gauteng\, 2040\, South Africa
CATEGORIES:Themes
ATTACH;FMTTYPE=image/jpeg:https://www.yummies.co.za/wp-content/uploads/2026/01/yummies_fb.jpg
ORGANIZER;CN="Yummies":MAILTO:info@yummies.co.za
END:VEVENT
END:VCALENDAR