BEGIN:VCALENDAR
VERSION:2.0
PRODID:-//Yummies Christian Nursery School - ECPv6.15.20//NONSGML v1.0//EN
CALSCALE:GREGORIAN
METHOD:PUBLISH
X-WR-CALNAME:Yummies Christian Nursery School
X-ORIGINAL-URL:https://www.yummies.co.za
X-WR-CALDESC:Events for Yummies Christian Nursery School
REFRESH-INTERVAL;VALUE=DURATION:PT1H
X-Robots-Tag:noindex
X-PUBLISHED-TTL:PT1H
BEGIN:VTIMEZONE
TZID:Africa/Johannesburg
BEGIN:STANDARD
TZOFFSETFROM:+0200
TZOFFSETTO:+0200
TZNAME:SAST
DTSTART:20240101T000000
END:STANDARD
END:VTIMEZONE
BEGIN:VEVENT
DTSTART;VALUE=DATE:20251103
DTEND;VALUE=DATE:20251108
DTSTAMP:20260426T002200
CREATED:20251009T101049Z
LAST-MODIFIED:20251009T101049Z
UID:5776-1762128000-1762559999@www.yummies.co.za
SUMMARY:This Week's Theme: Community Workers - The Police
DESCRIPTION:👮‍♀️🚓 This Week’s Theme at Yummies Nursery School: Community Workers – The Police! 🚓👮‍♂️ \nOur little learners are discovering how the police keep our communities safe\, help people in need\, and make sure everyone follows the rules. 💙 \nFrom playing dress-up to learning about safety\, teamwork\, and helping others – it’s all about understanding the important role our police officers play every day! 👏💫
URL:https://www.yummies.co.za/event/this-weeks-theme-community-workers-the-police/
LOCATION:Gauteng
CATEGORIES:Themes
ATTACH;FMTTYPE=image/jpeg:https://www.yummies.co.za/wp-content/uploads/2025/10/yummies_fb_themes2025.jpg
ORGANIZER;CN="Yummies":MAILTO:info@yummies.co.za
END:VEVENT
END:VCALENDAR