BEGIN:VCALENDAR
VERSION:2.0
PRODID:-//Yummies Christian Nursery School - ECPv6.15.20//NONSGML v1.0//EN
CALSCALE:GREGORIAN
METHOD:PUBLISH
X-WR-CALNAME:Yummies Christian Nursery School
X-ORIGINAL-URL:https://www.yummies.co.za
X-WR-CALDESC:Events for Yummies Christian Nursery School
REFRESH-INTERVAL;VALUE=DURATION:PT1H
X-Robots-Tag:noindex
X-PUBLISHED-TTL:PT1H
BEGIN:VTIMEZONE
TZID:Africa/Johannesburg
BEGIN:STANDARD
TZOFFSETFROM:+0200
TZOFFSETTO:+0200
TZNAME:SAST
DTSTART:20240101T000000
END:STANDARD
END:VTIMEZONE
BEGIN:VEVENT
DTSTART;VALUE=DATE:20250915
DTEND;VALUE=DATE:20250920
DTSTAMP:20260426T023839
CREATED:20250821T090126Z
LAST-MODIFIED:20250821T090126Z
UID:5744-1757894400-1758326399@www.yummies.co.za
SUMMARY:This Week's Theme: Insects
DESCRIPTION:🪲🐞 This Week’s Theme at Yummies Nursery School 🐞🪲We’re buzzing with excitement as we explore the wonderful world of insects! 🐝🦋🐜Through stories\, crafts\, and play\, our little learners will discover just how amazing these tiny creatures really are. 🌸✨
URL:https://www.yummies.co.za/event/this-weeks-theme-insects/
LOCATION:Gauteng
CATEGORIES:Themes
ATTACH;FMTTYPE=image/jpeg:https://www.yummies.co.za/wp-content/uploads/2025/08/yummies_fb_themes2025-2.jpg
ORGANIZER;CN="Yummies":MAILTO:info@yummies.co.za
END:VEVENT
END:VCALENDAR