BEGIN:VCALENDAR
VERSION:2.0
PRODID:-//Yummies Christian Nursery School - ECPv6.15.20//NONSGML v1.0//EN
CALSCALE:GREGORIAN
METHOD:PUBLISH
X-ORIGINAL-URL:https://www.yummies.co.za
X-WR-CALDESC:Events for Yummies Christian Nursery School
REFRESH-INTERVAL;VALUE=DURATION:PT1H
X-Robots-Tag:noindex
X-PUBLISHED-TTL:PT1H
BEGIN:VTIMEZONE
TZID:Africa/Johannesburg
BEGIN:STANDARD
TZOFFSETFROM:+0200
TZOFFSETTO:+0200
TZNAME:SAST
DTSTART:20240101T000000
END:STANDARD
END:VTIMEZONE
BEGIN:VEVENT
DTSTART;VALUE=DATE:20250901
DTEND;VALUE=DATE:20250906
DTSTAMP:20260426T024053
CREATED:20250818T123036Z
LAST-MODIFIED:20250818T123036Z
UID:5718-1756684800-1757116799@www.yummies.co.za
SUMMARY:This Week’s Theme: Healthy Food
DESCRIPTION:🥦🍎 This Week’s Theme: Healthy Food! 🍌🥕At Yummies Nursery School\, our little learners are discovering the importance of eating nutritious meals and making healthy choices. 🌱✨\nFun activities\, colourful crafts\, and yummy lessons are helping us grow strong inside and out! 💪😊
URL:https://www.yummies.co.za/event/this-weeks-theme-healthy-food/
LOCATION:Yummies\, 34 Penchartz Rd\, Harveston\, Gauteng\, 2040\, South Africa
CATEGORIES:Themes
ATTACH;FMTTYPE=image/jpeg:https://www.yummies.co.za/wp-content/uploads/2025/08/yummies_fb_themes2025.jpg
ORGANIZER;CN="Yummies":MAILTO:info@yummies.co.za
END:VEVENT
END:VCALENDAR