BEGIN:VCALENDAR
VERSION:2.0
PRODID:-//Yummies Christian Nursery School - ECPv6.15.20//NONSGML v1.0//EN
CALSCALE:GREGORIAN
METHOD:PUBLISH
X-ORIGINAL-URL:https://www.yummies.co.za
X-WR-CALDESC:Events for Yummies Christian Nursery School
REFRESH-INTERVAL;VALUE=DURATION:PT1H
X-Robots-Tag:noindex
X-PUBLISHED-TTL:PT1H
BEGIN:VTIMEZONE
TZID:Africa/Johannesburg
BEGIN:STANDARD
TZOFFSETFROM:+0200
TZOFFSETTO:+0200
TZNAME:SAST
DTSTART:20240101T000000
END:STANDARD
END:VTIMEZONE
BEGIN:VEVENT
DTSTART;VALUE=DATE:20250804
DTEND;VALUE=DATE:20250816
DTSTAMP:20260426T035927
CREATED:20250725T103748Z
LAST-MODIFIED:20250725T103748Z
UID:5688-1754265600-1755302399@www.yummies.co.za
SUMMARY:This Week’s Theme: Transport & Road Safety
DESCRIPTION:🚦 This week at Yummies Nursery School\, we’re on the move! 🚗🚌✈️ \nOur little learners are diving into the exciting world of Transport & Road Safety — exploring how we travel and learning how to stay safe while doing it! \nFrom stop signs to seatbelts\, it’s a week full of fun\, facts\, and fantastic adventures!
URL:https://www.yummies.co.za/event/this-weeks-theme-transport-road-safety/
LOCATION:Yummies\, 34 Penchartz Rd\, Harveston\, Gauteng\, 2040\, South Africa
CATEGORIES:Themes
ATTACH;FMTTYPE=image/jpeg:https://www.yummies.co.za/wp-content/uploads/2025/07/yummies_fb_themes2025.jpg
ORGANIZER;CN="Yummies":MAILTO:info@yummies.co.za
END:VEVENT
END:VCALENDAR