BEGIN:VCALENDAR
VERSION:2.0
PRODID:-//Yummies Christian Nursery School - ECPv6.15.20//NONSGML v1.0//EN
CALSCALE:GREGORIAN
METHOD:PUBLISH
X-WR-CALNAME:Yummies Christian Nursery School
X-ORIGINAL-URL:https://www.yummies.co.za
X-WR-CALDESC:Events for Yummies Christian Nursery School
REFRESH-INTERVAL;VALUE=DURATION:PT1H
X-Robots-Tag:noindex
X-PUBLISHED-TTL:PT1H
BEGIN:VTIMEZONE
TZID:Africa/Johannesburg
BEGIN:STANDARD
TZOFFSETFROM:+0200
TZOFFSETTO:+0200
TZNAME:SAST
DTSTART:20250101T000000
END:STANDARD
END:VTIMEZONE
BEGIN:VEVENT
DTSTART;VALUE=DATE:20260428
DTEND;VALUE=DATE:20260502
DTSTAMP:20260425T181441
CREATED:20260325T112837Z
LAST-MODIFIED:20260424T123913Z
UID:5894-1777334400-1777679999@www.yummies.co.za
SUMMARY:This Week's Theme
DESCRIPTION:🐾✨ Theme of the Week ✨🐾 \nThis week at Yummies Nursery School\, we’re exploring the wonderful world of Pets\, while our Grade R learners are focusing on the special theme of “My Family.” 🏡💛 \nThrough stories\, creative play\, and fun activities\, the children will learn about caring for animals\, as well as the love\, roles\, and connections within their families. \nWe love seeing our little ones share about their furry friends and the people who mean the most to them! 🐶🐱🌟
URL:https://www.yummies.co.za/event/this-weeks-theme-12/
LOCATION:Yummies\, 34 Penchartz Rd\, Harveston\, Gauteng\, 2040\, South Africa
CATEGORIES:Themes
ATTACH;FMTTYPE=image/jpeg:https://www.yummies.co.za/wp-content/uploads/2026/01/yummies_fb.jpg
ORGANIZER;CN="Yummies":MAILTO:info@yummies.co.za
END:VEVENT
BEGIN:VEVENT
DTSTART;VALUE=DATE:20260504
DTEND;VALUE=DATE:20260509
DTSTAMP:20260425T181441
CREATED:20260424T123147Z
LAST-MODIFIED:20260424T124010Z
UID:5905-1777852800-1778284799@www.yummies.co.za
SUMMARY:This Week's Theme
DESCRIPTION:🌸 Theme of the Week: Mother’s Day 🌸🌦 Grade R Theme: Weather 🌦 \nThis week at Yummies Nursery School\, we are celebrating the special role that moms and mother figures play in our lives 💛 \nOur little ones will be exploring love\, appreciation\, and kindness through fun Mother’s Day activities\, crafts\, and stories… all while learning how to express gratitude in their own unique ways. \nOur Grade R class will also be diving into the wonderful world of weather\, discovering sunshine\, rain\, wind\, and everything in between ☀️🌧️ \nWe’re looking forward to a week full of creativity\, learning\, and lots of smiles!
URL:https://www.yummies.co.za/event/this-weeks-theme-13/
LOCATION:Yummies\, 34 Penchartz Rd\, Harveston\, Gauteng\, 2040\, South Africa
CATEGORIES:Themes
ATTACH;FMTTYPE=image/jpeg:https://www.yummies.co.za/wp-content/uploads/2026/01/yummies_fb.jpg
ORGANIZER;CN="Yummies":MAILTO:info@yummies.co.za
END:VEVENT
BEGIN:VEVENT
DTSTART;VALUE=DATE:20260511
DTEND;VALUE=DATE:20260516
DTSTAMP:20260425T181441
CREATED:20260424T124704Z
LAST-MODIFIED:20260424T124704Z
UID:5912-1778457600-1778889599@www.yummies.co.za
SUMMARY:This Week's Theme
DESCRIPTION:🐾🍂 Theme of the Week: Pets 🍂🐾🍁 Grade R Theme: Autumn 🍁 \nThis week at Yummies Nursery School\, we’re exploring the wonderful world of pets – learning about our furry (and not-so-furry!) friends\, how to care for them\, and the love and responsibility that comes with having a pet 🐶🐱 \nOur Grade R class will be embracing the beauty of Autumn\, discovering the changing colours\, cooler weather\, and all the little seasonal wonders this time of year brings 🍂 \nWe’re excited for a week filled with learning\, sharing\, and lots of tail-wagging fun!
URL:https://www.yummies.co.za/event/this-weeks-theme-14/
LOCATION:Yummies\, 34 Penchartz Rd\, Harveston\, Gauteng\, 2040\, South Africa
CATEGORIES:Themes
ATTACH;FMTTYPE=image/jpeg:https://www.yummies.co.za/wp-content/uploads/2026/01/yummies_fb.jpg
ORGANIZER;CN="Yummies":MAILTO:info@yummies.co.za
END:VEVENT
BEGIN:VEVENT
DTSTART;VALUE=DATE:20260518
DTEND;VALUE=DATE:20260523
DTSTAMP:20260425T181441
CREATED:20260424T125824Z
LAST-MODIFIED:20260424T125824Z
UID:5919-1779062400-1779494399@www.yummies.co.za
SUMMARY:This Week's Theme
DESCRIPTION:🐄🌾 Theme of the Week: Farm Animals 🌾🐄🔊🎶 Grade R Theme: Sound 🎶🔊 \nThis week at Yummies Nursery School\, we’re heading down to the farm! Our little ones will be learning all about farm animals – what they eat\, the sounds they make\, and how they help us in our daily lives 🐑🐓 \nOur Grade R class will be exploring the exciting world of sound\, discovering how we hear\, different types of sounds\, and even making some fun noise of our own! 🎵 \nIt’s going to be a lively\, hands-on week filled with learning\, laughter\, and lots of “moo”\, “baa”\, and “cluck”! 🐮🐑🐔
URL:https://www.yummies.co.za/event/this-weeks-theme-15/
LOCATION:Yummies\, 34 Penchartz Rd\, Harveston\, Gauteng\, 2040\, South Africa
CATEGORIES:Themes
ATTACH;FMTTYPE=image/jpeg:https://www.yummies.co.za/wp-content/uploads/2026/01/yummies_fb.jpg
ORGANIZER;CN="Yummies":MAILTO:info@yummies.co.za
END:VEVENT
BEGIN:VEVENT
DTSTART;VALUE=DATE:20260525
DTEND;VALUE=DATE:20260530
DTSTAMP:20260425T181441
CREATED:20260424T130508Z
LAST-MODIFIED:20260424T130603Z
UID:5923-1779667200-1780099199@www.yummies.co.za
SUMMARY:This Week's Theme
DESCRIPTION:🚗✈️ Theme of the Week: Transport ✈️🚗\n\n\n\n\n\n\n\n\n👀🌈 Grade R Theme: Sight 🌈👀 \nThis week at Yummies Nursery School\, we’re on the move as we explore the exciting world of transport! Our little ones will learn about different ways we travel – by road\, air\, and even water – through fun activities\, stories\, and imaginative play 🚂🚢 \nOur Grade R class will be focusing on the sense of sight\, discovering how we see the world around us\, recognising colours\, shapes\, and observing the many details in our environment 👁️ \nWe’re looking forward to a bright and busy week filled with learning\, discovery\, and adventure!
URL:https://www.yummies.co.za/event/this-weeks-theme-16/
LOCATION:Yummies\, 34 Penchartz Rd\, Harveston\, Gauteng\, 2040\, South Africa
CATEGORIES:Themes
ATTACH;FMTTYPE=image/jpeg:https://www.yummies.co.za/wp-content/uploads/2026/01/yummies_fb.jpg
ORGANIZER;CN="Yummies":MAILTO:info@yummies.co.za
END:VEVENT
END:VCALENDAR