BEGIN:VCALENDAR
VERSION:2.0
PRODID:-//Yummies Christian Nursery School - ECPv6.15.20//NONSGML v1.0//EN
CALSCALE:GREGORIAN
METHOD:PUBLISH
X-ORIGINAL-URL:https://www.yummies.co.za
X-WR-CALDESC:Events for Yummies Christian Nursery School
REFRESH-INTERVAL;VALUE=DURATION:PT1H
X-Robots-Tag:noindex
X-PUBLISHED-TTL:PT1H
BEGIN:VTIMEZONE
TZID:Africa/Johannesburg
BEGIN:STANDARD
TZOFFSETFROM:+0200
TZOFFSETTO:+0200
TZNAME:SAST
DTSTART:20250101T000000
END:STANDARD
END:VTIMEZONE
BEGIN:VEVENT
DTSTART;VALUE=DATE:20260202
DTEND;VALUE=DATE:20260207
DTSTAMP:20260425T193619
CREATED:20260121T064411Z
LAST-MODIFIED:20260121T064411Z
UID:5806-1769990400-1770422399@www.yummies.co.za
SUMMARY:This Week's Theme
DESCRIPTION:Theme of the Week 🌈\nThis week at Yummies Nursery School\, our learning is all about exploring and understanding the world around us: \n👀👂✋ Theme of the Week: My SensesOur children will discover how they use their senses to see\, hear\, touch\, smell\, and taste through fun\, hands-on activities and play. \n🏫 Grade R Theme: In the ClassroomOur Grade R learners will focus on classroom routines\, listening skills\, cooperation\, and becoming confident\, independent learners within their learning space. \nA week full of discovery\, curiosity\, and growing confidence awaits our Yummies stars 💛✨
URL:https://www.yummies.co.za/event/this-weeks-theme-3/
LOCATION:Yummies\, 34 Penchartz Rd\, Harveston\, Gauteng\, 2040\, South Africa
CATEGORIES:Themes
ATTACH;FMTTYPE=image/jpeg:https://www.yummies.co.za/wp-content/uploads/2026/01/yummies_fb.jpg
ORGANIZER;CN="Yummies":MAILTO:info@yummies.co.za
END:VEVENT
BEGIN:VEVENT
DTSTART;VALUE=DATE:20260209
DTEND;VALUE=DATE:20260214
DTSTAMP:20260425T193619
CREATED:20260121T065650Z
LAST-MODIFIED:20260121T065650Z
UID:5810-1770595200-1771027199@www.yummies.co.za
SUMMARY:This Week's Theme
DESCRIPTION:Theme of the Week 🌈\nThis week at Yummies Nursery School\, we’re focusing on building positive routines and a love for learning: \n🌟 Theme of the Week: Good HabitsOur children will learn about kindness\, tidying up\, listening\, sharing\, and healthy daily habits through stories\, play\, and gentle guidance. \n📚 Grade R Theme: BooksOur Grade R learners will explore the wonderful world of books\, learning how to care for them\, enjoy stories\, and begin developing a lifelong love of reading. \nA week filled with learning\, imagination\, and positive growth awaits our Yummies stars 💛✨
URL:https://www.yummies.co.za/event/this-weeks-theme-4/
LOCATION:Yummies\, 34 Penchartz Rd\, Harveston\, Gauteng\, 2040\, South Africa
CATEGORIES:Themes
ATTACH;FMTTYPE=image/jpeg:https://www.yummies.co.za/wp-content/uploads/2026/01/yummies_fb.jpg
ORGANIZER;CN="Yummies":MAILTO:info@yummies.co.za
END:VEVENT
BEGIN:VEVENT
DTSTART;VALUE=DATE:20260216
DTEND;VALUE=DATE:20260221
DTSTAMP:20260425T193619
CREATED:20260121T082409Z
LAST-MODIFIED:20260121T082409Z
UID:5823-1771200000-1771631999@www.yummies.co.za
SUMMARY:This Week's Theme
DESCRIPTION:Theme of the Week 🌈\nThis week at Yummies Nursery School\, our learning is all about connection and routine: \n👨‍👩‍👧‍👦 Theme of the Week: My FamilyOur children will talk about their families\, the people who love and care for them\, and what makes each family special and unique. \n📅 Grade R Theme: Days of the WeekOur Grade R learners will focus on learning the days of the week\, building a sense of time\, routine\, and confidence in their daily school rhythm. \nA warm\, thoughtful week of learning and growing together awaits our Yummies stars 💛✨
URL:https://www.yummies.co.za/event/this-weeks-theme-5/
LOCATION:Yummies\, 34 Penchartz Rd\, Harveston\, Gauteng\, 2040\, South Africa
CATEGORIES:Themes
ATTACH;FMTTYPE=image/jpeg:https://www.yummies.co.za/wp-content/uploads/2026/01/yummies_fb.jpg
ORGANIZER;CN="Yummies":MAILTO:info@yummies.co.za
END:VEVENT
BEGIN:VEVENT
DTSTART;VALUE=DATE:20260223
DTEND;VALUE=DATE:20260228
DTSTAMP:20260425T193619
CREATED:20260121T083324Z
LAST-MODIFIED:20260121T083324Z
UID:5827-1771804800-1772236799@www.yummies.co.za
SUMMARY:This Week's Theme
DESCRIPTION:Theme of the Week 🌈\nThis week at Yummies Nursery School\, our learning is all about comfort\, belonging\, and self-awareness: \n🏡 Theme of the Week: My HomeOur children will explore what makes a home special\, talking about familiar spaces\, daily routines\, and the people who make them feel safe and loved. \n🧍 Grade R Theme: My BodyOur Grade R learners will learn about their bodies\, how they move\, and how to care for themselves\, building confidence and healthy awareness. \nA gentle\, nurturing week of learning and discovery awaits our Yummies stars 💛✨
URL:https://www.yummies.co.za/event/this-weeks-theme-6/
LOCATION:Yummies\, 34 Penchartz Rd\, Harveston\, Gauteng\, 2040\, South Africa
CATEGORIES:Themes
ATTACH;FMTTYPE=image/jpeg:https://www.yummies.co.za/wp-content/uploads/2026/01/yummies_fb.jpg
ORGANIZER;CN="Yummies":MAILTO:info@yummies.co.za
END:VEVENT
END:VCALENDAR