BEGIN:VCALENDAR
VERSION:2.0
PRODID:-//Yummies Christian Nursery School - ECPv6.15.20//NONSGML v1.0//EN
CALSCALE:GREGORIAN
METHOD:PUBLISH
X-ORIGINAL-URL:https://www.yummies.co.za
X-WR-CALDESC:Events for Yummies Christian Nursery School
REFRESH-INTERVAL;VALUE=DURATION:PT1H
X-Robots-Tag:noindex
X-PUBLISHED-TTL:PT1H
BEGIN:VTIMEZONE
TZID:Africa/Johannesburg
BEGIN:STANDARD
TZOFFSETFROM:+0200
TZOFFSETTO:+0200
TZNAME:SAST
DTSTART:20240101T000000
END:STANDARD
END:VTIMEZONE
BEGIN:VEVENT
DTSTART;VALUE=DATE:20251013
DTEND;VALUE=DATE:20251018
DTSTAMP:20260426T002125
CREATED:20250922T074645Z
LAST-MODIFIED:20250922T074645Z
UID:5758-1760313600-1760745599@www.yummies.co.za
SUMMARY:This Week's Theme: Community Workers - The Doctor
DESCRIPTION:👩‍⚕️👨‍⚕️ This Week’s Theme at Yummies! 👩‍⚕️👨‍⚕️We’re learning all about Community Workers: The Doctor 🩺✨ \nFrom check-ups to caring hands\, our little ones will discover how doctors help keep us healthy and strong! 💪❤️
URL:https://www.yummies.co.za/event/this-weeks-theme-community-workers-the-doctor/
LOCATION:Gauteng
CATEGORIES:Themes
ATTACH;FMTTYPE=image/jpeg:https://www.yummies.co.za/wp-content/uploads/2025/09/yummies_fb_themes2025.jpg
ORGANIZER;CN="Yummies":MAILTO:info@yummies.co.za
END:VEVENT
BEGIN:VEVENT
DTSTART;VALUE=DATE:20251020
DTEND;VALUE=DATE:20251025
DTSTAMP:20260426T002125
CREATED:20250922T075324Z
LAST-MODIFIED:20250922T075324Z
UID:5761-1760918400-1761350399@www.yummies.co.za
SUMMARY:This Week's Theme: Community Workers - The Dentist
DESCRIPTION:😁🦷 This Week’s Theme at Yummies! 🦷😁We’re learning all about Community Workers: The Dentist! 👩‍⚕️✨ \nFrom sparkly smiles to keeping teeth strong\, our little ones will discover how dentists help us shine bright every day! 🌟
URL:https://www.yummies.co.za/event/this-weeks-theme-community-workers-the-dentist/
LOCATION:Gauteng
CATEGORIES:Themes
ATTACH;FMTTYPE=image/jpeg:https://www.yummies.co.za/wp-content/uploads/2025/09/yummies_fb_themes2025-1.jpg
ORGANIZER;CN="Yummies":MAILTO:info@yummies.co.za
END:VEVENT
BEGIN:VEVENT
DTSTART;VALUE=DATE:20251027
DTEND;VALUE=DATE:20251101
DTSTAMP:20260426T002125
CREATED:20250922T103853Z
LAST-MODIFIED:20250922T103853Z
UID:5764-1761523200-1761955199@www.yummies.co.za
SUMMARY:This Week's Theme: Community Workers - Fire Brigade
DESCRIPTION:😁🦷 This Week’s Theme at Yummies! 🦷😁We’re learning all about Community Workers: The Dentist! 👩‍⚕️✨ \nFrom sparkly smiles to keeping teeth strong\, our little ones will discover how dentists help us shine bright every day! 🌟
URL:https://www.yummies.co.za/event/this-weeks-theme-community-workers-fire-brigade/
LOCATION:Gauteng
CATEGORIES:Themes
ATTACH;FMTTYPE=image/jpeg:https://www.yummies.co.za/wp-content/uploads/2025/09/yummies_fb_themes2025-2.jpg
ORGANIZER;CN="Yummies":MAILTO:info@yummies.co.za
END:VEVENT
END:VCALENDAR