BEGIN:VCALENDAR
VERSION:2.0
PRODID:-//Yummies Christian Nursery School - ECPv6.15.20//NONSGML v1.0//EN
CALSCALE:GREGORIAN
METHOD:PUBLISH
X-WR-CALNAME:Yummies Christian Nursery School
X-ORIGINAL-URL:https://www.yummies.co.za
X-WR-CALDESC:Events for Yummies Christian Nursery School
REFRESH-INTERVAL;VALUE=DURATION:PT1H
X-Robots-Tag:noindex
X-PUBLISHED-TTL:PT1H
BEGIN:VTIMEZONE
TZID:Africa/Johannesburg
BEGIN:STANDARD
TZOFFSETFROM:+0200
TZOFFSETTO:+0200
TZNAME:SAST
DTSTART:20240101T000000
END:STANDARD
END:VTIMEZONE
BEGIN:VEVENT
DTSTART;TZID=Africa/Johannesburg:20260213T180000
DTEND;TZID=Africa/Johannesburg:20260214T100000
DTSTAMP:20260426T013347
CREATED:20260121T072933Z
LAST-MODIFIED:20260121T073640Z
UID:5817-1771005600-1771063200@www.yummies.co.za
SUMMARY:Sleepover
DESCRIPTION:🌙✨ 𝗬𝘂𝗺𝗺𝗶𝗲𝘀 𝗡𝘂𝗿𝘀𝗲𝗿𝘆 𝗦𝗰𝗵𝗼𝗼𝗹 𝗦𝗹𝗲𝗲𝗽𝗼𝘃𝗲𝗿 𝗔𝗹𝗲𝗿𝘁! ✨🌙\nLet the littles up to 10yrs old join us for a night full of fun\, laughter\, and memories 🎬🎨🎲 with movies\, games\, and face-painting…. while you guys enjoy some much-needed big people togetherness time for Valentine’s! 💃🕺\n📅 When: Friday 13 January 18h00 – Saturday 14 Jan 10h00\n💰 Cost: R200\n🍽️ Includes: Dinner\, breakfast\, juice\, and snacks\n🛏️ What to bring: Mattress\, pillow\, and blanket\n📞 Contact Issy: 082 852 2721 to book your spot! 🎉
URL:https://www.yummies.co.za/event/sleepover-4/
LOCATION:Yummies\, 34 Penchartz Rd\, Harveston\, Gauteng\, 2040\, South Africa
CATEGORIES:Sleepovers
ATTACH;FMTTYPE=image/jpeg:https://www.yummies.co.za/wp-content/uploads/2026/01/yummies_fb_sleepover.jpg
ORGANIZER;CN="Yummies":MAILTO:info@yummies.co.za
END:VEVENT
BEGIN:VEVENT
DTSTART;TZID=Africa/Johannesburg:20251031T180000
DTEND;TZID=Africa/Johannesburg:20251101T100000
DTSTAMP:20260426T013347
CREATED:20250922T111003Z
LAST-MODIFIED:20250922T111010Z
UID:5767-1761933600-1761991200@www.yummies.co.za
SUMMARY:Sleepover
DESCRIPTION:𝗬𝘂𝗺𝗺𝗶𝗲𝘀 𝗡𝘂𝗿𝘀𝗲𝗿𝘆 𝗦𝗰𝗵𝗼𝗼𝗹 𝗦𝗹𝗲𝗲𝗽𝗼𝘃𝗲𝗿 𝗔𝗹𝗲𝗿𝘁! \n\n\nLet the littles up to 10yrs old join us for a night full of fun\, laughter\, and memories with movies\, games and face-painting\, while you guys get some much needed big people togetherness time!\n\n\n When: Friday 31 October 18h00 – Saturday 1 November 10h00\nCost: R200\nIncludes: Dinner\, breakfast\, juice\, and snacks\nWhat to bring: Mattress\, pillow\, and blanket\n\n\nContact Issy: 082 852 2721 to book your spot!
URL:https://www.yummies.co.za/event/sleepover-3/
LOCATION:Yummies\, 34 Penchartz Rd\, Harveston\, Gauteng\, 2040\, South Africa
CATEGORIES:Sleepovers
ATTACH;FMTTYPE=image/jpeg:https://www.yummies.co.za/wp-content/uploads/2025/09/yummies_fb_sleepover.jpg
ORGANIZER;CN="Yummies":MAILTO:info@yummies.co.za
END:VEVENT
BEGIN:VEVENT
DTSTART;TZID=Africa/Johannesburg:20250829T180000
DTEND;TZID=Africa/Johannesburg:20250830T100000
DTSTAMP:20260426T013347
CREATED:20250725T101819Z
LAST-MODIFIED:20250725T101819Z
UID:5685-1756490400-1756548000@www.yummies.co.za
SUMMARY:Sleepover
DESCRIPTION:𝗬𝘂𝗺𝗺𝗶𝗲𝘀 𝗡𝘂𝗿𝘀𝗲𝗿𝘆 𝗦𝗰𝗵𝗼𝗼𝗹 𝗦𝗹𝗲𝗲𝗽𝗼𝘃𝗲𝗿 𝗔𝗹𝗲𝗿𝘁! \n\n\nLet the littles up to 10yrs old join us for a night full of fun\, laughter\, and memories with movies\, games and face-painting\, while you guys get some much needed big people togetherness time!\n\n\n When: Friday 29 August 18h00 – Saturday 30 August 10h00\nCost: R200\nIncludes: Dinner\, breakfast\, juice\, and snacks\nWhat to bring: Mattress\, pillow\, and blanket\n\n\nContact Issy: 082 852 2721 to book your spot!
URL:https://www.yummies.co.za/event/sleepover-2/
LOCATION:Yummies\, 34 Penchartz Rd\, Harveston\, Gauteng\, 2040\, South Africa
CATEGORIES:Sleepovers
ATTACH;FMTTYPE=image/jpeg:https://www.yummies.co.za/wp-content/uploads/2025/07/yummies_fb_sleepover-1.jpg
ORGANIZER;CN="Yummies":MAILTO:info@yummies.co.za
END:VEVENT
BEGIN:VEVENT
DTSTART;TZID=Africa/Johannesburg:20250801T180000
DTEND;TZID=Africa/Johannesburg:20250802T100000
DTSTAMP:20260426T013347
CREATED:20250725T095812Z
LAST-MODIFIED:20250725T100609Z
UID:5682-1754071200-1754128800@www.yummies.co.za
SUMMARY:Sleepover
DESCRIPTION:𝗬𝘂𝗺𝗺𝗶𝗲𝘀 𝗡𝘂𝗿𝘀𝗲𝗿𝘆 𝗦𝗰𝗵𝗼𝗼𝗹 𝗦𝗹𝗲𝗲𝗽𝗼𝘃𝗲𝗿 𝗔𝗹𝗲𝗿𝘁! \n\n\nLet the littles up to 10yrs old join us for a night full of fun\, laughter\, and memories with movies\, games and face-painting\, while you guys get some much needed big people togetherness time!\n\n\n When: Friday 31 August 18h00 – Saturday 2 August 10h00\nCost: R200\nIncludes: Dinner\, breakfast\, juice\, and snacks\nWhat to bring: Mattress\, pillow\, and blanket\n\n\nContact Issy: 082 852 2721 to book your spot!
URL:https://www.yummies.co.za/event/sleepover/
LOCATION:Yummies\, 34 Penchartz Rd\, Harveston\, Gauteng\, 2040\, South Africa
CATEGORIES:Sleepovers
ATTACH;FMTTYPE=image/jpeg:https://www.yummies.co.za/wp-content/uploads/2025/07/yummies_fb_sleepover.jpg
ORGANIZER;CN="Yummies":MAILTO:info@yummies.co.za
END:VEVENT
END:VCALENDAR