BEGIN:VCALENDAR
VERSION:2.0
PRODID:-//Yummies Christian Nursery School - ECPv6.15.20//NONSGML v1.0//EN
CALSCALE:GREGORIAN
METHOD:PUBLISH
X-ORIGINAL-URL:https://www.yummies.co.za
X-WR-CALDESC:Events for Yummies Christian Nursery School
REFRESH-INTERVAL;VALUE=DURATION:PT1H
X-Robots-Tag:noindex
X-PUBLISHED-TTL:PT1H
BEGIN:VTIMEZONE
TZID:Africa/Johannesburg
BEGIN:STANDARD
TZOFFSETFROM:+0200
TZOFFSETTO:+0200
TZNAME:SAST
DTSTART:20250101T000000
END:STANDARD
END:VTIMEZONE
BEGIN:VEVENT
DTSTART;VALUE=DATE:20260510
DTEND;VALUE=DATE:20260511
DTSTAMP:20260425T192427
CREATED:20260424T123738Z
LAST-MODIFIED:20260424T123738Z
UID:5909-1778371200-1778457599@www.yummies.co.za
SUMMARY:Happy Mothers' Day!
DESCRIPTION:🌸💛 Happy Mother’s Day 💛🌸 \nToday we celebrate all the wonderful moms\, grandmothers\, and mother figures who fill our little ones’ lives with love\, care\, and endless support. \nAt Yummies Nursery School\, we see every day the difference you make – in the hugs\, the encouragement\, and the bright smiles you help create 🌼 \nThank you for nurturing\, guiding\, and inspiring the children who mean so much to all of us. \nWishing you a day filled with love\, appreciation\, and a little time to relax… you truly deserve it! 💐
URL:https://www.yummies.co.za/event/happy-mothers-day/
CATEGORIES:Important Days & Holidays
ATTACH;FMTTYPE=image/jpeg:https://www.yummies.co.za/wp-content/uploads/2026/04/yummies_fb-1.jpg
END:VEVENT
END:VCALENDAR