BEGIN:VCALENDAR
VERSION:2.0
PRODID:-//Yummies Christian Nursery School - ECPv6.15.20//NONSGML v1.0//EN
CALSCALE:GREGORIAN
METHOD:PUBLISH
X-ORIGINAL-URL:https://www.yummies.co.za
X-WR-CALDESC:Events for Yummies Christian Nursery School
REFRESH-INTERVAL;VALUE=DURATION:PT1H
X-Robots-Tag:noindex
X-PUBLISHED-TTL:PT1H
BEGIN:VTIMEZONE
TZID:Africa/Johannesburg
BEGIN:STANDARD
TZOFFSETFROM:+0200
TZOFFSETTO:+0200
TZNAME:SAST
DTSTART:20250101T000000
END:STANDARD
END:VTIMEZONE
BEGIN:VEVENT
DTSTART;VALUE=DATE:20260406
DTEND;VALUE=DATE:20260407
DTSTAMP:20260425T182700
CREATED:20260325T104929Z
LAST-MODIFIED:20260325T104929Z
UID:5878-1775433600-1775519999@www.yummies.co.za
SUMMARY:Family Day
DESCRIPTION:Celebrating Family This Family Day 💛 \nFamily Day is a beautiful reminder of the blessing of togetherness\, love\, and the bonds that shape our lives. Following the joy of Easter\, it’s a time to cherish those closest to us and give thanks for the gift of family. \nWhile Yummies Nursery School remains closed for the Easter holidays\, we hope our families are enjoying meaningful time together\, creating special memories and moments of connection. \nWe look forward to welcoming everyone back soon\, refreshed and ready for the term ahead. \nWishing you a joyful and love-filled Family Day. 🌿✨
URL:https://www.yummies.co.za/event/family-day/
CATEGORIES:Important Days & Holidays
ATTACH;FMTTYPE=image/jpeg:https://www.yummies.co.za/wp-content/uploads/2026/03/yummies_fb-2.jpg
END:VEVENT
END:VCALENDAR