BEGIN:VCALENDAR
VERSION:2.0
PRODID:-//Yummies Christian Nursery School - ECPv6.15.20//NONSGML v1.0//EN
CALSCALE:GREGORIAN
METHOD:PUBLISH
X-WR-CALNAME:Yummies Christian Nursery School
X-ORIGINAL-URL:https://www.yummies.co.za
X-WR-CALDESC:Events for Yummies Christian Nursery School
REFRESH-INTERVAL;VALUE=DURATION:PT1H
X-Robots-Tag:noindex
X-PUBLISHED-TTL:PT1H
BEGIN:VTIMEZONE
TZID:Africa/Johannesburg
BEGIN:STANDARD
TZOFFSETFROM:+0200
TZOFFSETTO:+0200
TZNAME:SAST
DTSTART:20250101T000000
END:STANDARD
END:VTIMEZONE
BEGIN:VEVENT
DTSTART;VALUE=DATE:20260405
DTEND;VALUE=DATE:20260406
DTSTAMP:20260425T184349
CREATED:20260325T102256Z
LAST-MODIFIED:20260325T102256Z
UID:5875-1775347200-1775433599@www.yummies.co.za
SUMMARY:Easter
DESCRIPTION:Happy Easter ✝️🌸 \nThis Easter\, we celebrate the joy\, hope\, and promise of new life through the resurrection of Jesus Christ. It is a beautiful reminder of God’s love and the light that guides us each day. \nWhile Yummies Nursery School is currently closed for the Easter holidays\, we hold all our families close in our hearts during this special time. May your days be filled with peace\, love\, and joyful moments with those who matter most. \nWe look forward to welcoming our little ones back soon\, refreshed and ready for a new term. \nWishing you a blessed and joyful Easter. 🌿✨
URL:https://www.yummies.co.za/event/easter/
CATEGORIES:Important Days & Holidays
ATTACH;FMTTYPE=image/jpeg:https://www.yummies.co.za/wp-content/uploads/2026/03/yummies_fb-1.jpg
END:VEVENT
END:VCALENDAR