BEGIN:VCALENDAR
VERSION:2.0
PRODID:-//Yummies Christian Nursery School - ECPv6.15.20//NONSGML v1.0//EN
CALSCALE:GREGORIAN
METHOD:PUBLISH
X-WR-CALNAME:Yummies Christian Nursery School
X-ORIGINAL-URL:https://www.yummies.co.za
X-WR-CALDESC:Events for Yummies Christian Nursery School
REFRESH-INTERVAL;VALUE=DURATION:PT1H
X-Robots-Tag:noindex
X-PUBLISHED-TTL:PT1H
BEGIN:VTIMEZONE
TZID:Africa/Johannesburg
BEGIN:STANDARD
TZOFFSETFROM:+0200
TZOFFSETTO:+0200
TZNAME:SAST
DTSTART:20250101T000000
END:STANDARD
END:VTIMEZONE
BEGIN:VEVENT
DTSTART;VALUE=DATE:20260101
DTEND;VALUE=DATE:20260102
DTSTAMP:20260425T204259
CREATED:20251228T081638Z
LAST-MODIFIED:20251228T081638Z
UID:5790-1767225600-1767311999@www.yummies.co.za
SUMMARY:Happy New Year!
DESCRIPTION:Happy New Year from Yummies Nursery School \n\n\nAs we step into a new year\, we thank God for His guidance\, protection\, and blessings over our Yummies family. We are deeply grateful to our parents and families for the trust you place in us and for walking this journey of growth and learning alongside your children.\n\n\nMay this year be filled with faith\, love\, kindness\, and joyful learning. We look forward to nurturing young hearts and minds in a warm\, caring environment where Christian values\, family\, and community come first.\n\n\nWishing you and your loved ones a blessed and peaceful New Year
URL:https://www.yummies.co.za/event/happy-new-year/
CATEGORIES:Important Days & Holidays
ATTACH;FMTTYPE=image/jpeg:https://www.yummies.co.za/wp-content/uploads/2025/12/yummies_fb-1.jpg
END:VEVENT
END:VCALENDAR