BEGIN:VCALENDAR
VERSION:2.0
PRODID:-//Yummies Christian Nursery School - ECPv6.15.20//NONSGML v1.0//EN
CALSCALE:GREGORIAN
METHOD:PUBLISH
X-WR-CALNAME:Yummies Christian Nursery School
X-ORIGINAL-URL:https://www.yummies.co.za
X-WR-CALDESC:Events for Yummies Christian Nursery School
REFRESH-INTERVAL;VALUE=DURATION:PT1H
X-Robots-Tag:noindex
X-PUBLISHED-TTL:PT1H
BEGIN:VTIMEZONE
TZID:Africa/Johannesburg
BEGIN:STANDARD
TZOFFSETFROM:+0200
TZOFFSETTO:+0200
TZNAME:SAST
DTSTART:20240101T000000
END:STANDARD
END:VTIMEZONE
BEGIN:VEVENT
DTSTART;VALUE=DATE:20251225
DTEND;VALUE=DATE:20251226
DTSTAMP:20260425T215131
CREATED:20251217T091541Z
LAST-MODIFIED:20251217T091541Z
UID:5787-1766620800-1766707199@www.yummies.co.za
SUMMARY:Christmas
DESCRIPTION:🎄✨ Merry Christmas from Yummies Nursery School ✨🎄 \nAs we celebrate this special season\, we remember the greatest gift of all: the birth of our Saviour\, Jesus Christ.May His love\, peace\, and joy fill your homes and hearts this Christmas. \nThank you for trusting us with your precious little ones this year. We are truly blessed to walk this journey with your families. \nWishing you a Christmas filled with faith\, laughter\, and sweet moments\, and a New Year guided by His light. ✝️🌟
URL:https://www.yummies.co.za/event/christmas/
CATEGORIES:Important Days & Holidays
ATTACH;FMTTYPE=image/jpeg:https://www.yummies.co.za/wp-content/uploads/2025/12/yummies_fb.jpg
END:VEVENT
END:VCALENDAR