BEGIN:VCALENDAR
VERSION:2.0
PRODID:-//Yummies Christian Nursery School - ECPv6.15.20//NONSGML v1.0//EN
CALSCALE:GREGORIAN
METHOD:PUBLISH
X-ORIGINAL-URL:https://www.yummies.co.za
X-WR-CALDESC:Events for Yummies Christian Nursery School
REFRESH-INTERVAL;VALUE=DURATION:PT1H
X-Robots-Tag:noindex
X-PUBLISHED-TTL:PT1H
BEGIN:VTIMEZONE
TZID:Africa/Johannesburg
BEGIN:STANDARD
TZOFFSETFROM:+0200
TZOFFSETTO:+0200
TZNAME:SAST
DTSTART:20250101T000000
END:STANDARD
END:VTIMEZONE
BEGIN:VEVENT
DTSTART;VALUE=DATE:20260112
DTEND;VALUE=DATE:20260113
DTSTAMP:20260426T035824
CREATED:20260101T113204Z
LAST-MODIFIED:20260120T113835Z
UID:5794-1768176000-1768262399@www.yummies.co.za
SUMMARY:Yummies Opens
DESCRIPTION:Welcome back to school\, Yummies stars 🌈✨ \nThe classrooms are ready\, the toys are waiting\, and our hearts are full as we welcome our little learners back for a brand new term. Here’s to fresh beginnings\, happy faces\, tiny triumphs\, and lots of learning through play. We can’t wait to watch your children grow\, explore\, and shine this year 💛📚🧸
URL:https://www.yummies.co.za/event/yummies-opens/
LOCATION:Yummies\, 34 Penchartz Rd\, Harveston\, Gauteng\, 2040\, South Africa
CATEGORIES:Fun at School
ATTACH;FMTTYPE=image/jpeg:https://www.yummies.co.za/wp-content/uploads/2026/01/2847559_4628.jpg
ORGANIZER;CN="Yummies":MAILTO:info@yummies.co.za
END:VEVENT
END:VCALENDAR