BEGIN:VCALENDAR
VERSION:2.0
PRODID:-//Yummies Christian Nursery School - ECPv6.15.20//NONSGML v1.0//EN
CALSCALE:GREGORIAN
METHOD:PUBLISH
X-WR-CALNAME:Yummies Christian Nursery School
X-ORIGINAL-URL:https://www.yummies.co.za
X-WR-CALDESC:Events for Yummies Christian Nursery School
REFRESH-INTERVAL;VALUE=DURATION:PT1H
X-Robots-Tag:noindex
X-PUBLISHED-TTL:PT1H
BEGIN:VTIMEZONE
TZID:Africa/Johannesburg
BEGIN:STANDARD
TZOFFSETFROM:+0200
TZOFFSETTO:+0200
TZNAME:SAST
DTSTART:20240101T000000
END:STANDARD
END:VTIMEZONE
BEGIN:VEVENT
DTSTART;TZID=Africa/Johannesburg:20251004T090000
DTEND;TZID=Africa/Johannesburg:20251004T160000
DTSTAMP:20260426T063500
CREATED:20250807T115532Z
LAST-MODIFIED:20250819T073046Z
UID:5705-1759568400-1759593600@www.yummies.co.za
SUMMARY:Fun Day!
DESCRIPTION:🎉✨ Yummies Nursery School & Elevation Academy Fun Day! ✨🎉 \n📅 Date: 4 October⏰ Time: 09h00 – 16h00💰 Entrance: R50/adult | R20/child under 13(Yummies & Elevation kids enter FREE 🎈) \nYour entry fee includes:🛝 Jumping Castles & Water Slides🎨 Face Painting🏊 Pool Fun (with lifeguard on duty)\n🎯 Games with Prizes🌍 Round-The-World Trashion Show 👗 \nPlus… 🍔 Boerewors & Prego Rolls\, 🍰 Dessert Tables and 🛍️ Vendors! \nBring the whole family for a day of fun\, food & laughter! 💕
URL:https://www.yummies.co.za/event/fun-day/
LOCATION:Yummies\, 34 Penchartz Rd\, Harveston\, Gauteng\, 2040\, South Africa
CATEGORIES:Fun at School
ATTACH;FMTTYPE=image/jpeg:https://www.yummies.co.za/wp-content/uploads/2025/08/yummies_fb.jpg
ORGANIZER;CN="Yummies":MAILTO:info@yummies.co.za
END:VEVENT
END:VCALENDAR