BEGIN:VCALENDAR
VERSION:2.0
PRODID:-//Yummies Christian Nursery School - ECPv6.15.20//NONSGML v1.0//EN
CALSCALE:GREGORIAN
METHOD:PUBLISH
X-WR-CALNAME:Yummies Christian Nursery School
X-ORIGINAL-URL:https://www.yummies.co.za
X-WR-CALDESC:Events for Yummies Christian Nursery School
REFRESH-INTERVAL;VALUE=DURATION:PT1H
X-Robots-Tag:noindex
X-PUBLISHED-TTL:PT1H
BEGIN:VTIMEZONE
TZID:Africa/Johannesburg
BEGIN:STANDARD
TZOFFSETFROM:+0200
TZOFFSETTO:+0200
TZNAME:SAST
DTSTART:20240101T000000
END:STANDARD
END:VTIMEZONE
BEGIN:VEVENT
DTSTART;VALUE=DATE:20260403
DTEND;VALUE=DATE:20260407
DTSTAMP:20260426T013332
CREATED:20260222T071853Z
LAST-MODIFIED:20260402T060811Z
UID:5857-1775174400-1775519999@www.yummies.co.za
SUMMARY:Yummies Closed
DESCRIPTION:
URL:https://www.yummies.co.za/event/yummies-closed-2/
CATEGORIES:Closed
END:VEVENT
BEGIN:VEVENT
DTSTART;VALUE=DATE:20251212
DTEND;VALUE=DATE:20260112
DTSTAMP:20260426T013332
CREATED:20250818T120823Z
LAST-MODIFIED:20260120T113231Z
UID:5716-1765497600-1768175999@www.yummies.co.za
SUMMARY:Yummies Closed
DESCRIPTION:
URL:https://www.yummies.co.za/event/yummies-closed/
CATEGORIES:Closed
END:VEVENT
BEGIN:VEVENT
DTSTART;VALUE=DATE:20251003
DTEND;VALUE=DATE:20251013
DTSTAMP:20260426T013332
CREATED:20250818T115246Z
LAST-MODIFIED:20250818T115319Z
UID:5714-1759449600-1760313599@www.yummies.co.za
SUMMARY:Govt. Schools Closed
DESCRIPTION:
URL:https://www.yummies.co.za/event/govt-schools-closed/
CATEGORIES:Closed
END:VEVENT
END:VCALENDAR